Workbook

Sheet 1
D1: Приложение № 1
D2: к приказу "Об утверждении Прейскуранта
D3: на оказываемые дополнительные платные сервисы
D4: ПАО «Красноярскэнергосбыт» на 2026 год"
A7: Прейскурант на оказываемые дополнительные платные сервисы ПАО «Красноярскэнергосбыт» на 2026 год
A9: 1. ЭКСПЕРТНЫЕ УСЛУГИ
A11: Код | B11: Наименование работы / услуги | C11: Единица измерения | D11: Цена с НДС, руб.
D12: I. Городские и муниципальные округа (за исключением II и III) | E12: II. Муниципальные округа: Енисейский, Богучанский, Мотыгинский, Кежемский | F12: III. Северо-Енисейский муниципальный округ
A13: 1 | B13: 2 | C13: 3 | D13: 4 | E13: 6 | F13: 7
A14: 1.1. | B14: Оформление документов на техприсоединение в сетевой организации без заполнения конструктора договора
A15: 1.1.1. | B15: Подготовка и сопровождение заявки на технологическое присоединение заявителя в ЛКК на сайте сетевой организации заявителем - физическим лицом в целях технологического присоединения энергопринимающих устройств, максимальная мощность которых составляет до 150 кВт включительно (с учетом ранее присоединенных в данной точке присоединения энергопринимающих устройств), которые используются для бытовых и иных нужд, не связанных с осуществлением предпринимательской деятельности, и электроснабжение которых предусматривается по одному источнику | C15: услуга | D15: ='[1]без заполнения'!K5 -> 2731.5542
A16: 1.1.2. | B16: Подготовка и сопровождение заявки на технологическое присоединение заявителя в ЛКК на сайте сетевой организации заявителем - физическим лицом, в целях технологического присоединения объекта микрогенерации к объектам электросетевого хозяйства с уровнем напряжения до 1000 В | C16: услуга | D16: ='[1]без заполнения'!K6 -> 2731.5542
A17: 1.1.3. | B17: Подготовка и сопровождение заявки на технологическое присоединение заявителя в ЛКК на сайте сетевой организации заявителем - физическим лицом, в целях одновременного технологического присоединения к объектам электросетевого хозяйства с уровнем напряжения до 1000 В энергопринимающих устройств, максимальная мощность которых составляет до 150 кВт включительно (с учетом ранее присоединенных в данной точке присоединения энергопринимающих устройств), которые используются для бытовых и иных нужд, не связанных с осуществлением предпринимательской деятельности, и электроснабжение которых предусматривается по одному источнику, и объектов микрогенерации | C17: услуга | D17: ='[1]без заполнения'!K7 -> 3414.4427
A18: 1.1.4. | B18: Подготовка и сопровождение заявки на технологическое присоединение заявителя в ЛКК на сайте сетевой организации заявителем - юридическим лицом или индивидуальным предпринимателем, в целях технологического присоединения по второй или третьей категории надежности энергопринимающих устройств, максимальная мощность которых составляет до 150 кВт включительно (с учетом ранее присоединенных в данной точке присоединения энергопринимающих устройств) | C18: услуга | D18: ='[1]без заполнения'!K8 -> 3414.4427
A19: 1.1.5. | B19: Подготовка и сопровождение заявки на технологическое присоединение заявителя в ЛКК на сайте сетевой организации заявителем - юридическим лицом или индивидуальным предпринимателем, в целях одновременного технологического присоединения к объектам электросетевого хозяйства с уровнем напряжения до 1000 В энергопринимающих устройств, максимальная мощность которых составляет до 150 кВт включительно (с учетом ранее присоединенных в данной точке присоединения энергопринимающих устройств), электроснабжение которых предусматривается по одному источнику, и объектов микрогенерации | C19: услуга | D19: ='[1]без заполнения'!K9 -> 3414.4427
A20: 1.1.6. | B20: Подготовка и сопровождение заявки на технологическое присоединение заявителя в ЛКК на сайте сетевой организации или на бумажном носителе заявителем - юридическим лицом или индивидуальным предпринимателем, в целях одновременного технологического присоединения к объектам электросетевого хозяйства с уровнем напряжения до 1000 В энергопринимающих устройств, максимальная мощность которых составляет свыше 150 кВт (с учетом ранее присоединенных в данной точке присоединения энергопринимающих устройств), и объектов микрогенерации | C20: услуга | D20: ='[1]без заполнения'!K10 -> 10926.217
A21: 1.1.7. | B21: Подготовка и сопровождение заявки на технологическое присоединение заявителя в ЛКК на сайте сетевой организации или на бумажном носителе заявителем - юридическим лицом или индивидуальным предпринимателем, максимальная мощность энергопринимающих устройств которых составляет свыше 150 кВт и менее 670 кВт | C21: услуга | D21: ='[1]без заполнения'!K11 -> 10926.217
A22: 1.1.8. | B22: Подготовка и сопровождение заявки на технологическое присоединение заявителя в ЛКК на сайте сетевой организации или на бумажном носителе заявителем - юридическим лицом или индивидуальным предпринимателем в целях технологического присоединения объектов микрогенерации к объектам электросетевого хозяйства с уровнем напряжения до 1000 В | C22: услуга | D22: ='[1]без заполнения'!K12 -> 3414.4427
A23: 1.1.9. | B23: Подготовка и сопровождение заявки на технологическое присоединение заявителя в ЛКК на сайте сетевой организации или на бумажном носителеВ заявке, направляемой заявителем в целях временного технологического присоединения | C23: услуга | D23: ='[1]без заполнения'!K13 -> 3414.4427
A24: 1.1.10. | B24: Подготовка и сопровождение прочих документов, не имеющихся в наличии (разрешение от иного собственника на подключение, договор безвозмездного пользования, иное) | C24: услуга | D24: ='[1]без заполнения'!K14 -> 1365.7771
A25: 1.2. | B25: Оформление документов на техприсоединение в сетевой организации с заполнением конструктора договора
A26: 1.2.1. | B26: Подготовка и сопровождение заявки на технологическое присоединение заявителя в ЛКК на сайте сетевой организации заявителем - физическим лицом в целях технологического присоединения энергопринимающих устройств, максимальная мощность которых составляет до 150 кВт включительно (с учетом ранее присоединенных в данной точке присоединения энергопринимающих устройств), которые используются для бытовых и иных нужд, не связанных с осуществлением предпринимательской деятельности, и электроснабжение которых предусматривается по одному источнику | C26: услуга | D26: ='[1]с заполнением'!K5 -> 3414.4427 | E26: =[2]юр.лица!$H$41 -> 2515.2 | F26: =[2]юр.лица!$H$52 -> 3184.8
A27: 1.2.2. | B27: Подготовка и сопровождение заявки на технологическое присоединение заявителя в ЛКК на сайте сетевой организации заявителем - физическим лицом, в целях технологического присоединения объекта микрогенерации к объектам электросетевого хозяйства с уровнем напряжения до 1000 В | C27: услуга | D27: ='[1]с заполнением'!K6 -> 3414.4427 | E27: =[2]юр.лица!$H$41 -> 2515.2 | F27: =[2]юр.лица!$H$52 -> 3184.8
A28: 1.2.3. | B28: Подготовка и сопровождение заявки на технологическое присоединение заявителя в ЛКК на сайте сетевой организации заявителем - физическим лицом, в целях одновременного технологического присоединения к объектам электросетевого хозяйства с уровнем напряжения до 1000 В энергопринимающих устройств, максимальная мощность которых составляет до 150 кВт включительно (с учетом ранее присоединенных в данной точке присоединения энергопринимающих устройств), которые используются для бытовых и иных нужд, не связанных с осуществлением предпринимательской деятельности, и электроснабжение которых предусматривается по одному источнику, и объектов микрогенерации | C28: услуга | D28: ='[1]с заполнением'!K7 -> 4097.3312 | E28: =[2]юр.лица!$H$41 -> 2515.2 | F28: =[2]юр.лица!$H$52 -> 3184.8
A29: 1.2.4. | B29: Подготовка и сопровождение заявки на технологическое присоединение заявителя в ЛКК на сайте сетевой организации заявителем - юридическим лицом или индивидуальным предпринимателем, в целях технологического присоединения по второй или третьей категории надежности энергопринимающих устройств, максимальная мощность которых составляет до 150 кВт включительно (с учетом ранее присоединенных в данной точке присоединения энергопринимающих устройств) | C29: услуга | D29: ='[1]с заполнением'!K8 -> 4097.3312 | E29: =[2]юр.лица!$H$41 -> 2515.2 | F29: =[2]юр.лица!$H$52 -> 3184.8
A30: 1.2.5. | B30: Подготовка и сопровождение заявки на технологическое присоединение заявителя в ЛКК на сайте сетевой организации заявителем - юридическим лицом или индивидуальным предпринимателем, в целях одновременного технологического присоединения к объектам электросетевого хозяйства с уровнем напряжения до 1000 В энергопринимающих устройств, максимальная мощность которых составляет до 150 кВт включительно (с учетом ранее присоединенных в данной точке присоединения энергопринимающих устройств), электроснабжение которых предусматривается по одному источнику, и объектов микрогенерации | C30: услуга | D30: ='[1]с заполнением'!K9 -> 4097.3312 | E30: =[2]юр.лица!$H$41 -> 2515.2 | F30: =[2]юр.лица!$H$52 -> 3184.8
A31: 1.2.6. | B31: Подготовка и сопровождение заявки на технологическое присоединение заявителя в ЛКК на сайте сетевой организации или на бумажном носителе заявителем - юридическим лицом или индивидуальным предпринимателем, в целях одновременного технологического присоединения к объектам электросетевого хозяйства с уровнем напряжения до 1000 В энергопринимающих устройств, максимальная мощность которых составляет свыше 150 кВт (с учетом ранее присоединенных в данной точке присоединения энергопринимающих устройств), и объектов микрогенерации | C31: услуга | D31: ='[1]с заполнением'!K10 -> 11609.105 | E31: =[2]юр.лица!$H$41 -> 2515.2 | F31: =[2]юр.лица!$H$52 -> 3184.8
A32: 1.2.7. | B32: Подготовка и сопровождение заявки на технологическое присоединение заявителя в ЛКК на сайте сетевой организации или на бумажном носителе заявителем - юридическим лицом или индивидуальным предпринимателем, максимальная мощность энергопринимающих устройств которых составляет свыше 150 кВт и менее 670 кВт | C32: услуга | D32: ='[1]с заполнением'!K11 -> 11609.105 | E32: =[2]юр.лица!$H$41 -> 2515.2 | F32: =[2]юр.лица!$H$52 -> 3184.8
A33: 1.2.8. | B33: Подготовка и сопровождение заявки на технологическое присоединение заявителя в ЛКК на сайте сетевой организации или на бумажном носителе заявителем - юридическим лицом или индивидуальным предпринимателем в целях технологического присоединения объектов микрогенерации к объектам электросетевого хозяйства с уровнем напряжения до 1000 В | C33: услуга | D33: ='[1]с заполнением'!K12 -> 4097.3312 | E33: =[2]юр.лица!$H$41 -> 2515.2 | F33: =[2]юр.лица!$H$52 -> 3184.8
A34: 1.2.9. | B34: Подготовка и сопровождение заявки на технологическое присоединение заявителя в ЛКК на сайте сетевой организации или на бумажном носителе, направляемой заявителем в целях временного технологического присоединения | C34: услуга | D34: ='[1]с заполнением'!K13 -> 4097.3312 | E34: =[2]юр.лица!$H$41 -> 2515.2 | F34: =[2]юр.лица!$H$52 -> 3184.8
A35: 1.3. | B35: Получение акта допуска в эксплуатацию электроустановки (по поручению клиента)
A36: 1.3.1. | B36: Получение в ЕМТУ Ростехнадзор акта допуска в эксплуатацию электроустановки Заказчика (для юридических лиц) | C36: точка присоединения | D36: =[1]юр.лица!$C$20 -> 4005.5726 | E36: =[2]юр.лица!$J$41 -> 3446.8 | F36: =[2]юр.лица!$J$52 -> 4353.4
A37: 1.3.2. | B37: Получение в ЕМТУ Ростехнадзор акта допуска в эксплуатацию электроустановки Заказчика (для физических лиц) | C37: точка присоединения | D37: =[1]физ.лица!$C$20 -> 2141.5933
A38: 1.4. | B38: Составление справки к счету-фактуре о начислениях за потребленную электроэнергию по точкам учета | C38: точка учета | D38: ='[1]точка учета'!$C$20 -> 72.735778
A39: 1.5. | B39: Переоформление документов при несвоевременном сообщении абонентом об изменении реквизитов | C39: документ | D39: =[1]переоформление!$C$20 -> 456.28708
A40: 1.6. | B40: Предоставление сравнительного расчета по альтернативным ценовым категориям по отношению к применяемой ценовой категории в договоре на энергоснабжение | C40: объект энерго-снабжения | D40: =[1]альтернатив.цк!$C$20 -> 13376.456
A41: 1.7. | B41: Выдача дубликата платежного документа формата А4 с учетом подборки документов из архива | C41: лист | D41: ='[1]дубликат, ксерокопия'!$C$20 -> 274.18347
A42: 1.9. | B42: Рассылка счетов-квитанций на оплату потребленной электроэнергии на электронные адреса абонентов, получающих квитанции по электронной почте | C42: шт.

Sheet 2
A1: 2. УСЛУГИ ПО КОМПЛЕКСНОМУ ТЕХНИЧЕСКОМУ ОБСЛУЖИВАНИЮ ЭЛЕКТРОУСТАНОВОК КЛИЕНТА,
A2: РЕМОНТНО-ВОССТАНОВИТЕЛЬНЫМ РАБОТАМ, ЭКСПЕРТНО-ДОКУМЕНТАРНЫМ УСЛУГАМ
A4: Код | B4: Наименование работы / услуги | C4: Единица измерения | D4: Цена с НДС, руб.
D5: I. Городские и муниципальные округа (за исключением II и III) | E5: II. Муниципальные округа: Енисейский, Богучанский, Мотыгинский, Кежемский | F5: III. Северо-Енисейский муниципальный округ
A6: 1 | B6: 2 | C6: 3 | D6: 4 | E6: 6 | F6: 7
A7: 2.1. | B7: Комплексное техническое обслуживание электроустановок клиента
A8: 2.1.1. | B8: Осмотр и выявление видимых неисправностей одного вводно-распределительного устройства-0,22 кВ в помещении (за единицу ВРУ-0,22 кВ) габариты,мм (ш/в/г) 269/220/104 | C8: услуга | D8: =[3]КТО!N11 -> 2300 | E8: =[3]КТО!N45 -> 2580 | F8: =[3]КТО!N62 -> 3250
A9: 2.1.2. | B9: Электротехническое обслуживание одного ВРУ-0,22кВ в помещении, габариты,мм (ш/в/г) 269/220/104 | C9: шт. | D9: =[3]КТО!N12 -> 4270 | E9: =[3]КТО!N46 -> 4760 | F9: =[3]КТО!N63 -> 6000
A10: 2.1.3. | B10: Осмотр и выявление видимых неисправностей одного ВРУ-0,4кВ в помещении, габариты,мм (ш/в/г) 400/490/160 | C10: услуга | D10: =[3]КТО!N13 -> 3370 | E10: =[3]КТО!N47 -> 3760 | F10: =[3]КТО!N64 -> 4750
A11: 2.1.4. | B11: Электротехническое обслуживание одного ВРУ-0,4кВ в помещении, габариты,мм (ш/в/г) 400/490/160 | C11: шт. | D11: =[3]КТО!N14 -> 6090 | E11: =[3]КТО!N48 -> 6800 | F11: =[3]КТО!N65 -> 8570
A12: 2.1.5. | B12: Проверка функционирования одного устройства защитного отключения в помещении (ВДТ, АВДТ) | C12: шт. | D12: =[3]КТО!N15 -> 2440 | E12: =[3]КТО!N49 -> 2720 | F12: =[3]КТО!N66 -> 3430
A13: 2.1.6. | B13: Проверка функционирования одного автомата защитного отключения в помещении | C13: шт. | D13: =[3]КТО!N16 -> 3050 | E13: =[3]КТО!N50 -> 3400 | F13: =[3]КТО!N67 -> 4290
A14: 2.1.7. | B14: Осмотр и выявление видимых неисправностей розеток и выключателей 0,22кВ (осмотр розетки или выключателя до 50 штук) | C14: услуга | D14: =[3]КТО!N17 -> 5670 | E14: =[3]КТО!N51 -> 6330 | F14: =[3]КТО!N68 -> 8000
A15: 2.1.8. | B15: Осмотр и выявление видимых неисправностей розеток и выключателей 0,22кВ (осмотр розетки или выключателя до 100 штук) | C15: услуга | D15: =[3]КТО!N18 -> 10970 | E15: =[3]КТО!N52 -> 12260 | F15: =[3]КТО!N69 -> 15490
A16: 2.1.9. | B16: Электротехническое обслуживание одного офисного потолочного светильника 0,22кВ | C16: шт. | D16: =[3]КТО!N19 -> 1830 | E16: =[3]КТО!N53 -> 2040 | F16: =[3]КТО!N70 -> 2570
A17: 2.1.10. | B17: Осмотр и выявление видимых неисправностей одного открытого заземляющего устройства | C17: шт. | D17: =[3]КТО!N20 -> 1420 | E17: =[3]КТО!N54 -> 1590 | F17: =[3]КТО!N71 -> 2000
A18: 2.1.11. | B18: Осмотр и выявление видимых неисправностей изоляции проводов и кабелей в помещении (с площадью до 1000 м2) | C18: услуга | D18: =[3]КТО!N21 -> 1600 | E18: =[3]КТО!N55 -> 1780 | F18: =[3]КТО!N72 -> 2250
A19: 2.1.12. | B19: Осмотр и выявление видимых неисправностей изоляции проводов и кабелей в помещении (с площадью до 2000 м2) | C19: услуга | D19: =[3]КТО!N22 -> 2660 | E19: =[3]КТО!N56 -> 2970 | F19: =[3]КТО!N73 -> 3750
... A23: 2.1.16. | B23: Электротехническое обслуживание одной системы телеметрии и дистанционного управления | C23: шт. | D23: =[3]КТО!N26 -> 3950 | E23: =[3]КТО!N60 -> 4420 | F23: =[3]КТО!N77 -> 5570

Sheet 3
A1: 3. УСТАНОВКА И ОБСЛУЖИВАНИЕ СИСТЕМ УЧЕТА
A3: Код | B3: Наименование работы / услуги | C3: Единица измерения | D3: Цена с НДС, руб.
D4: I. Городские и муниципальные округа (за исключением II и III) | E4: II. Муниципальные округа: Енисейский, Богучанский, Мотыгинский, Кежемский | F4: III. Северо-Енисейский муниципальный округ
A5: 1 | B5: 2 | C5: 3 | D5: 4 | E5: 6 | F5: 7
A6: 3.1. | B6: Замена (установка, снятие) приборов учета электрической энергии и измерительных трансформаторов
A7: 3.1.1. | B7: Замена (установка) одного однофазного прибора учета электроэнергии (электросчетчика), в том числе входящего в ИСУ | C7: шт. | D7: =[3]ЭР!N12 -> 1130 | E7: =[3]ЭР!N166 -> 1260 | F7: =[3]ЭР!N235 -> 1590
A8: 3.1.2. | B8: Монтаж одного однофазного прибора учета электроэнергии (электросчетчика) во вновь строящемся МКД | C8: шт. | D8: =[3]ЭР!N13 -> 920 | E8: =[3]ЭР!N167 -> 1020 | F8: =[3]ЭР!N236 -> 1290
A9: 3.1.3. | B9: Перенос одного однофазного прибора учета электроэнергии (электросчетчика) из квартиры на л/площадку | C9: шт. | D9: =[3]ЭР!N14 -> 3050 | E9: =[3]ЭР!N168 -> 3400 | F9: =[3]ЭР!N237 -> 4290
A10: 3.1.4. | B10: Замена (установка) одного трёхфазного прибора учета электроэнергии прямого включения (электросчетчика), в том числе входящего в ИСУ | C10: шт. | D10: =[3]ЭР!N15 -> 3960 | E10: =[3]ЭР!N169 -> 4420 | F10: =[3]ЭР!N238 -> 5570
A11: 3.1.5. | B11: Монтаж одного трёхфазного прибора учета электроэнергии (электросчетчика) прямого включения во вновь строящемся МКД | C11: шт. | D11: =[3]ЭР!N16 -> 5480 | E11: =[3]ЭР!N170 -> 6120 | F11: =[3]ЭР!N239 -> 7720
A12: 3.1.6. | B12: Замена (установка) трехфазного прибора учета электроэнергии, подключенного через измерительные трансформаторы тока (электросчетчика) | C12: шт. | D12: =[3]ЭР!N17 -> 6090 | E12: =[3]ЭР!N171 -> 6800 | F12: =[3]ЭР!N240 -> 8570
A13: 3.1.7. | B13: Монтаж одного трёхфазного прибора учета электроэнергии (электросчетчика), подключенного через измерительные трансформаторы тока во вновь строящемся МКД | C13: шт. | D13: =[3]ЭР!N18 -> 14610 | E13: =[3]ЭР!N172 -> 16310 | F13: =[3]ЭР!N241 -> 20570
A14: 3.1.8. | B14: Установка (замена) одного прибора учета на опору ВЛ-0,22кВ | C14: шт. | D14: =[3]ЭР!N19 -> 3230 | E14: =[3]ЭР!N173 -> 3610 | F14: =[3]ЭР!N242 -> 4550
A15: 3.2. | B15: Проверка соответствия системы учета электроэнергии действующим требованиям
A16: 3.2.1. | B16: Проверка пользования электрической энергии в электроустановках до 1000 В (1 потребитель) | C16: услуга | D16: =[3]ЭР!N21 -> 1010 | E16: =[3]ЭР!N175 -> 1130 | F16: =[3]ЭР!N244 -> 1420
A17: 3.2.2. | B17: Восстановление связи с одним однофазным прибором учета электрической энергии (электросчетчиком), входящим в систему ИСУ, на месте его эксплуатации в многоквартирном доме | C17: шт. | D17: =[3]ЭР!N22 -> 1100 | E17: =[3]ЭР!N176 -> 1230 | F17: =[3]ЭР!N245 -> 1550
A18: 3.2.3. | B18: Ограничение/приостановление режима потребления электрической энергии в электроустановках до 1000 В (1 потребитель) | C18: шт. | D18: =[3]ЭР!N23 -> 1040 | E18: =[3]ЭР!N177 -> 1160 | F18: =[3]ЭР!N246 -> 1460
A19: 3.2.4. | B19: Возобновление режима потребления электрической энергии в электроустановках до 1000 В (1 потребитель) | C19: шт. | D19: =[3]ЭР!N24 -> 1010 | E19: =[3]ЭР!N178 -> 1130 | F19: =[3]ЭР!N247 -> 1420
A20: 3.3. | B20: Проведение электромонтажных работ
A21: 3.3.1. | B21: Замена (установка) одного однополюсного автоматического выключателя | C21: шт. | D21: =[3]ЭР!N26 -> 550 | E21: =[3]ЭР!N180 -> 620 | F21: =[3]ЭР!N249 -> 780
A22: 3.3.2. | B22: Замена (установка) одного двухполюсного автоматического выключателя | C22: шт. | D22: =[3]ЭР!N27 -> 610 | E22: =[3]ЭР!N181 -> 680 | F22: =[3]ЭР!N250 -> 860
A23: 3.3.3. | B23: Замена (установка) одного трёхполюсного автоматического выключателя | C23: шт. | D23: =[3]ЭР!N28 -> 770 | E23: =[3]ЭР!N182 -> 850 | F23: =[3]ЭР!N251 -> 1080
A24: 3.3.4. | B24: Замена (установка) одной нулевой шины | C24: шт. | D24: =[3]ЭР!N29 -> 550 | E24: =[3]ЭР!N183 -> 620 | F24: =[3]ЭР!N252 -> 780
A25: 3.3.5. | B25: Демонтаж одного щита распределительного с коммутационными аппаратами | C25: шт. | D25: =[3]ЭР!N30 -> 3350 | E25: =[3]ЭР!N184 -> 3740 | F25: =[3]ЭР!N253 -> 4720
A26: 3.3.6. | B26: Установка одного щита распределительного с коммутационными аппаратами | C26: шт. | D26: =[3]ЭР!N31 -> 12790 | E26: =[3]ЭР!N185 -> 14270 | F26: =[3]ЭР!N254 -> 17990
A27: 3.3.7. | B27: Замена (установка) одного потолочного или стенового патрона | C27: шт. | D27: =[3]ЭР!N32 -> 770 | E27: =[3]ЭР!N186 -> 850 | F27: =[3]ЭР!N255 -> 1080
A28: 3.3.8. | B28: Замена (установка) одного светотехнического изделия | C28: шт. | D28: =[3]ЭР!N33 -> 920 | E28: =[3]ЭР!N187 -> 1020 | F28: =[3]ЭР!N256 -> 1290
A29: 3.3.9. | B29: Сборка одного однофазного щита учета электроэнергии | C29: шт. | D29: =[3]ЭР!N34 -> 1530 | E29: =[3]ЭР!N188 -> 1700 | F29: =[3]ЭР!N257 -> 2150
A30: 3.3.10. | B30: Сборка одного трёхфазного щита учета электроэнергии | C30: шт. | D30: =[3]ЭР!N35 -> 2590 | E30: =[3]ЭР!N189 -> 2890 | F30: =[3]ЭР!N258 -> 3650
A31: 3.3.11. | B31: Демонтаж одного этажного щита с электросчетчиками, коммутационными аппаратами и прочими комплектующими в многоквартирном доме | C31: шт. | D31: =[3]ЭР!N36 -> 3960 | E31: =[3]ЭР!N190 -> 4420 | F31: =[3]ЭР!N259 -> 5570
A32: 3.3.12. | B32: Установка одного этажного щита с электросчетчиками, коммутационными аппаратами и прочими комплектующими в многоквартирном доме | C32: шт. | D32: =[3]ЭР!N37 -> 26110 | E32: =[3]ЭР!N191 -> 29150 | F32: =[3]ЭР!N260 -> 36750
... A57: 3.3.37. | B57: Подключение одной электроплиты/варочной поверхности/духовки | C57: шт. | D57: =[3]ЭР!N62 -> 1710 | E57: =[3]ЭР!N216 -> 1910 | F57: =[3]ЭР!N285 -> 2400
A58: 3.4. | B58: Программирование приборов учета электроэнергии
A59: 3.4.1. | B59: Настройка тарифного расписания многотарифного электросчетчика | C59: шт. | D59: =[3]ЭР!N64 -> 2130 | E59: =[3]ЭР!N218 -> 2380 | F59: =[3]ЭР!N287 -> 3000
A60: 3.4.2. | B60: Настройка электросчетчика, сохраняющего профиль нагрузки | C60: шт. | D60: =[3]ЭР!N65 -> 2760 | E60: =[3]ЭР!N219 -> 3090 | F60: =[3]ЭР!N288 -> 3900
A61: 3.4.3. | B61: Настройка электросчетчика, сохраняющего профиль нагрузки на месте его эксплуатации | C61: шт. | D61: =[3]ЭР!N66 -> 3720 | E61: =[3]ЭР!N220 -> 4160 | F61: =[3]ЭР!N289 -> 5250
A62: 3.4.4. | B62: Корректировка времени многотарифного электросчетчика | C62: шт. | D62: =[3]ЭР!N67 -> 1600 | E62: =[3]ЭР!N221 -> 1780 | F62: =[3]ЭР!N290 -> 2250
A63: 3.4.5. | B63: Корректировка времени многотарифного однофазного электросчетчика на месте его эксплуатации | C63: шт. | D63: =[3]ЭР!N68 -> 2760 | E63: =[3]ЭР!N222 -> 3090 | F63: =[3]ЭР!N291 -> 3900
A64: 3.4.6. | B64: Корректировка времени многотарифного трехфазного электросчетчика на месте его эксплуатации | C64: шт. | D64: =[3]ЭР!N69 -> 2130 | E64: =[3]ЭР!N223 -> 2380 | F64: =[3]ЭР!N292 -> 3000
A65: 3.4.7. | B65: Преобразование данных о почасовом потреблении электрической энергии, снятых с прибора учета в отчет в формате Microsoft Office Excel | C65: шт. | D65: =[3]ЭР!N70 -> 1920 | E65: =[3]ЭР!N224 -> 2140 | F65: =[3]ЭР!N293 -> 2700
...

Sheet 4
A1: 5. ЭЛЕКТРОТЕХНИЧЕСКИЕ УСЛУГИ
A3: Код | B3: Наименование работы / услуги | C3: Единица измерения | D3: Цена с НДС, руб.
D4: I. Городские и муниципальные округа (за исключением II и III) | E4: II. Муниципальные округа: Енисейский, Богучанский, Мотыгинский, Кежемский | F4: III. Северо-Енисейский муниципальный округ
A5: 1 | B5: 2 | C5: 3 | D5: 4 | E5: 6 | F5: 7
A6: 4.1. | B6: Испытание средств индивидуальной защиты
A7: 4.1.1. | B7: Испытание средств индивидуальной защиты: штанга изолирующая | C7: шт. | D7: =[3]ЭТЛ!N20 -> 960 | E7: =[3]ЭТЛ!N76 -> 1070 | F7: =[3]ЭТЛ!N104 -> 1350
A8: 4.1.2. | B8: Испытание средств индивидуальной защиты: клещи изолирующие до 1 кВ | C8: шт. | D8: =[3]ЭТЛ!N21 -> 640 | E8: =[3]ЭТЛ!N77 -> 720 | F8: =[3]ЭТЛ!N105 -> 900
A9: 4.1.3. | B9: Испытание средств индивидуальной защиты: клещи изолирующие от 2 до 10 кВ | C9: шт. | D9: =[3]ЭТЛ!N22 -> 1280 | E9: =[3]ЭТЛ!N78 -> 1430 | F9: =[3]ЭТЛ!N106 -> 1800
A10: 4.1.4. | B10: Испытание средств индивидуальной защиты: указатель напряжения свыше 1000В | C10: шт. | D10: =[3]ЭТЛ!N23 -> 1280 | E10: =[3]ЭТЛ!N79 -> 1430 | F10: =[3]ЭТЛ!N107 -> 1800
A11: 4.1.5. | B11: Испытание средств индивидуальной защиты: указателя напряжения до 1000В | C11: шт. | D11: =[3]ЭТЛ!N24 -> 640 | E11: =[3]ЭТЛ!N80 -> 720 | F11: =[3]ЭТЛ!N108 -> 900
A12: 4.1.6. | B12: Испытание средств индивидуальной защиты: сигнализатора наличия напряжения стационарного | C12: шт. | D12: =[3]ЭТЛ!N25 -> 1280 | E12: =[3]ЭТЛ!N81 -> 1430 | F12: =[3]ЭТЛ!N109 -> 1800
A13: 4.1.7. | B13: Испытание средств индивидуальной защиты: указатель напряжения для проверки совпадения фаз | C13: шт. | D13: =[3]ЭТЛ!N26 -> 3900 | E13: =[3]ЭТЛ!N82 -> 4350 | F13: =[3]ЭТЛ!N110 -> 5500
A14: 4.1.8. | B14: Испытание средств индивидуальной защиты: клещи электроизмерительные до 1000 В | C14: шт. | D14: =[3]ЭТЛ!N27 -> 640 | E14: =[3]ЭТЛ!N83 -> 720 | F14: =[3]ЭТЛ!N111 -> 900
A15: 4.1.9. | B15: Испытание средств индивидуальной защиты: клещи электроизмерительные от 2 до 10 кВ | C15: шт. | D15: =[3]ЭТЛ!N28 -> 850 | E15: =[3]ЭТЛ!N84 -> 950 | F15: =[3]ЭТЛ!N112 -> 1200
A16: 4.1.10. | B16: Испытание средств индивидуальной защиты: перчатки диэлектрические | C16: пара | D16: =[3]ЭТЛ!N29 -> 640 | E16: =[3]ЭТЛ!N85 -> 720 | F16: =[3]ЭТЛ!N113 -> 900
A17: 4.1.11. | B17: Испытание средств индивидуальной защиты: обувь специальная диэлектрическая | C17: пара | D17: =[3]ЭТЛ!N30 -> 640 | E17: =[3]ЭТЛ!N86 -> 720 | F17: =[3]ЭТЛ!N114 -> 900
A18: 4.1.12. | B18: Испытание средств индивидуальной защиты: инструмент ручной изолирующий | C18: шт. | D18: =[3]ЭТЛ!N31 -> 430 | E18: =[3]ЭТЛ!N87 -> 480 | F18: =[3]ЭТЛ!N115 -> 600
A19: 4.2. | B19: Испытания и измерения параметров электроустановок
A20: 4.2.1. | B20: Измерения и испытания одного силового трехфазного масляного двухобмоточного трансформатора напряжением до 11кВ, мощностью до 1,6 МВА | C20: шт. | D20: =[3]ЭТЛ!N11 -> 25050 | E20: =[3]ЭТЛ!N67 -> 28000 | F20: =[3]ЭТЛ!N95 -> 35370
A21: 4.2.2. | B21: Определение пробивного напряжения трансформаторного масла (на одном трансформаторе) | C21: шт. | D21: =[3]ЭТЛ!N12 -> 1070 | E21: =[3]ЭТЛ!N68 -> 1190 | F21: =[3]ЭТЛ!N96 -> 1500
A22: 4.2.3. | B22: Сборные и соединительные шины: испытание повышенным напряжением промышленной частоты до 10 кВ (за одну шину) | C22: шт. | D22: =[3]ЭТЛ!N13 -> 5670 | E22: =[3]ЭТЛ!N69 -> 6330 | F22: =[3]ЭТЛ!N97 -> 8000
A23: 4.2.4. | B23: Сборные и соединительные шины: измерение сопротивления изоляции до 10 кВ (за одну шину) | C23: шт. | D23: =[3]ЭТЛ!N14 -> 1420 | E23: =[3]ЭТЛ!N70 -> 1590 | F23: =[3]ЭТЛ!N98 -> 2000
A24: 4.2.5. | B24: Вводы и проходные изоляторы: измерение сопротивления изоляции до 10 кВ (за один ввод/изолятор) | C24: шт. | D24: =[3]ЭТЛ!N15 -> 1280 | E24: =[3]ЭТЛ!N71 -> 1430 | F24: =[3]ЭТЛ!N99 -> 1800
A25: 4.2.6. | B25: Вводы и проходные изоляторы: испытание повышенным напряжением промышленной частоты до 10 кВ | C25: шт. | D25: =[3]ЭТЛ!N16 -> 6370 | E25: =[3]ЭТЛ!N72 -> 7120 | F25: =[3]ЭТЛ!N100 -> 8990
A26: 4.2.7. | B26: Силовые кабельные линии: измерение сопротивления изоляции линий до 1 кВ (одна услуга) | C26: шт. | D26: =[3]ЭТЛ!N17 -> 920 | E26: =[3]ЭТЛ!N73 -> 1030 | F26: =[3]ЭТЛ!N101 -> 1300
A27: 4.2.8. | B27: Силовые кабельные линии: измерение сопротивления изоляции линий свыше 1 кВ до 10 кВ (одна услуга) | C27: шт. | D27: =[3]ЭТЛ!N18 -> 1420 | E27: =[3]ЭТЛ!N74 -> 1590 | F27: =[3]ЭТЛ!N102 -> 2000
A28: 4.2.9. | B28: Силовые кабельные линии: испытание повышенным выпрямленным напряжением силовых кабельных линий до 10 кВ (одна услуга) | C28: шт. | D28: =[3]ЭТЛ!N19 -> 1420 | E28: =[3]ЭТЛ!N75 -> 1590 | F28: =[3]ЭТЛ!N103 -> 2000
A29: 4.2.10. | B29: Проверка наличия цепи между заземленными установками и элементами заземленной установки до 1000 В | C29: изм. | D29: =[3]ЭТЛ!N32 -> 320 | E29: =[3]ЭТЛ!N88 -> 360 | F29: =[3]ЭТЛ!N116 -> 450
A30: 4.2.11. | B30: Измерение полного сопротивления цепи фаза-ноль до 1000 В | C30: шт. | D30: =[3]ЭТЛ!N33 -> 2340 | E30: =[3]ЭТЛ!N89 -> 2610 | F30: =[3]ЭТЛ!N117 -> 3300
A31: 4.2.12. | B31: Измерение сопротивления растекания контура заземления до 1000 В | C31: шт. | D31: =[3]ЭТЛ!N34 -> 4040 | E31: =[3]ЭТЛ!N90 -> 4510 | F31: =[3]ЭТЛ!N118 -> 5700
A32: 4.2.13. | B32: Проверка действия расцепителей автоматических выключателей до 1000 В | C32: шт. | D32: =[3]ЭТЛ!N35 -> 3050 | E32: =[3]ЭТЛ!N91 -> 3410 | F32: =[3]ЭТЛ!N119 -> 4300
A33: 4.2.14. | B33: Проверка УЗО/дифференциальных автоматических выключателей до 1000 В | C33: шт. | D33: =[3]ЭТЛ!N36 -> 2340 | E33: =[3]ЭТЛ!N92 -> 2610 | F33: =[3]ЭТЛ!N120 -> 3300
A34: 4.2.15. | B34: Измерение сопротивления изоляции одной эл.установки аппарата вторичных цепей и эл.проводки до 1000 В | C34: шт. | D34: =[3]ЭТЛ!N37 -> 220 | E34: =[3]ЭТЛ!N93 -> 240 | F34: =[3]ЭТЛ!N121 -> 300

Sheet 5
A1: 6. УСЛУГИ ТЕПЛОВИЗИОННОГО ОБСЛЕДОВАНИЯ
A3: Код | B3: Наименование работы / услуги | C3: Единица измерения | D3: Цена с НДС, руб.
D4: I. Городские и муниципальные округа (за исключением II и III) | E4: II. Муниципальные округа: Енисейский, Богучанский, Мотыгинский, Кежемский | F4: III. Северо-Енисейский муниципальный округ
A5: 1 | B5: 2 | C5: 3 | D5: 4 | E5: 6 | F5: 7
A6: 5.1. | B6: Тепловизионное обследование ИЖС (за одно строение)
A7: 5.1.1. | B7: ИЖС до 150 м2 без отчета с результатами | C7: услуга | D7: =[3]ТО!O12 -> 7260
A8: 5.1.2. | B8: ИЖС до 150 м2 с полным отчетом с результатами | C8: услуга | D8: =[3]ТО!O13 -> 9260
A9: 5.1.3. | B9: ИЖС 150-350 м2 без отчета с результатами | C9: услуга | D9: =[3]ТО!O14 -> 9920
A10: 5.1.4. | B10: ИЖС 150-350 м2 с полным отчетом с результатами | C10: услуга | D10: =[3]ТО!O15 -> 11920
A11: 5.1.5. | B11: ИЖС 350-500 м2 без отчета с результатами | C11: услуга | D11: =[3]ТО!O16 -> 13920
A12: 5.1.6. | B12: ИЖС 350-500 м2 с полным отчетом с результатами | C12: услуга | D12: =[3]ТО!O17 -> 15920
A13: 5.2. | B13: Тепловизионное обследование помещения в МКД (за одно помещение)
A14: 5.2.1. | B14: 1 комнатные квартиры без отчета с результатами | C14: услуга | D14: =[3]ТО!O19 -> 3010
A15: 5.2.2. | B15: 1 комнатные квартиры с полным отчетом с результатами | C15: услуга | D15: =[3]ТО!O20 -> 4510
A16: 5.2.3. | B16: 2 комнатные квартиры без отчета с результатами | C16: услуга | D16: =[3]ТО!O21 -> 6010
A17: 5.2.4. | B17: 2 комнатные квартиры с полным отчетом с результатами | C17: услуга | D17: =[3]ТО!O22 -> 7510
A18: 5.2.5. | B18: 3-5 комнатные квартиры без отчета с результатами | C18: услуга | D18: =[3]ТО!O23 -> 9010
A19: 5.2.6. | B19: 3-5 комнатные квартиры с полным отчетом с результатами | C19: услуга | D19: =[3]ТО!O24 -> 10510
A20: 5.3. | B20: Тепловизионное обследование нежилого здания/помещения (за одно здание/помещение)
A21: 5.3.1. | B21: ИЖС до 150 м2 без отчета с результатами | C21: м2 | D21: =[3]ТО!O26 -> 40
A22: 5.3.2. | B22: ИЖС до 150 м2 с полным отчетом с результатами | C22: м2 | D22: =[3]ТО!O27 -> 35
A23: 5.3.3. | B23: ИЖС 150-350 м2 без отчета с результатами | C23: м2 | D23: =[3]ТО!O28 -> 30

Sheet 6
A1: 7. ПРОЧИЕ УСЛУГИ
A3: № | B3: Наименование работы / услуги | C3: Единица измерения | D3: Цена с НДС, руб.
D4: I. Городские и муниципальные округа (за исключением II и III) | E4: II. Муниципальные округа: Енисейский, Богучанский, Мотыгинский, Кежемский | F4: III. Северо-Енисейский муниципальный округ
A5: 1 | B5: 2 | C5: 3 | D5: 4 | E5: 6 | F5: 7
A6: 6.1. | B6: Копирование документов
A7: 6.1.1. | B7: Изготовление 1 листа формата А4 договора, заключенного с потребителем, с учетом подборки документов из номенклатурной папки договора. Документы представляются в формате PDF в электронном виде. | C7: шт. | D7: ='[1]дубликат, ксерокопия'!$C$20 -> 274.18347 | E7: ='[1]дубликат, ксерокопия'!$E$20 -> 306.32387 | F7: ='[1]дубликат, ксерокопия'!$F$20 -> 386.67485
A8: 6.2. | B8: Транспортные расходы
A9: 6.2.1. | B9: при проведении работ в черте города населением до 500 000 человек для категории персонала:
B10: водитель-инженер | C10: 1 км. | D10: =[4]Лист1!$C$24 -> 42.3 | E10: =[4]Лист1!$I$24 -> 46.3 | F10: =[4]Лист1!$L$24 -> 56.4
B11: Водитель-электромонтажник | C11: 1 км. | D11: =[4]Лист1!$D$24 -> 37.5 | E11: =[4]Лист1!$J$24 -> 41 | F11: =[4]Лист1!$M$24 -> 49.5
B12: Бригада: водитель, электромонтажник, инженер | C12: 1 км. | D12: =[4]Лист1!$E$24 -> 101.1 | E12: =[4]Лист1!$K$24 -> 112 | F12: =[4]Лист1!$N$24 -> 139.2
A13: 6.2.2. | B13: при проведении работ в черте города населением свыше 500 000 человек для категории персонала:
B14: водитель-инженер | C14: 1 км. | D14: =[4]Лист1!$C$37 -> 76.7 | E14: =[4]Лист1!$I$37 -> 84.7 | F14: =[4]Лист1!$L$37 -> 104.8
B15: Водитель-электромонтажник | C15: 1 км. | D15: =[4]Лист1!$D$37 -> 67.2 | E15: =[4]Лист1!$J$37 -> 74 | F15: =[4]Лист1!$M$37 -> 91.1
B16: Бригада: водитель, электромонтажник, инженер | C16: 1 км. | D16: =[4]Лист1!$E$37 -> 194.3 | E16: =[4]Лист1!$K$37 -> 216.1 | F16: =[4]Лист1!$N$37 -> 270.4
A17: 6.2.3. | B17: при проведении работ за чертой города (средняя скорость 75 км/ч) для категории персонала:
B18: водитель-инженер | C18: 1 км. | D18: =[4]Лист1!$C$50 -> 26.3 | E18: =[4]Лист1!$I$50 -> 28.4 | F18: =[4]Лист1!$L$50 -> 33.8
B19: Водитель-электромонтажник | C19: 1 км. | D19: =[4]Лист1!$D$50 -> 23.7 | E19: =[4]Лист1!$J$50 -> 25.6 | F19: =[4]Лист1!$M$50 -> 30.1
B20: Бригада: водитель, электромонтажник, инженер | C20: 1 км. | D20: =[4]Лист1!$E$50 -> 57.6 | E20: =[4]Лист1!$K$50 -> 63.4 | F20: =[4]Лист1!$N$50 -> 77.9

Sheet 7
A3: 8. ЗАМЕНА ПРИБОРОВ УЧЕТА ДО ИСТЕЧЕНИЯ СРОКА ПОВЕРКИ
A5: Код | B5: Наименование работы / услуги | C5: Единица измерения | D5: Цена с НДС, руб.
D6: I. Городские и муниципальные округа (за исключением II и III) | E6: II. Муниципальные округа: Енисейский, Богучанский, Мотыгинский, Кежемский | F6: III. Северо-Енисейский муниципальный округ
A7: 1 | B7: 2 | C7: 3 | D7: 4 | E7: 6 | F7: 7
A8: 1 | B8: Замена однофазного прибора учета электроэнергии прямого включения (включая стоимость прибора учета) | C8: шт. | D8: 15310 | E8: 20590 | F8: 20930
A9: 2 | B9: Замена трехфазного прибора учета электроэнергии прямого включения (включая стоимость прибора учета) | C9: шт. | D9: 36350 | E9: 41710 | F9: 42260
A10: 3 | B10: Замена трехфазного прибора учета электроэнергии, подключенного через измерительные трансформаторы тока (включая стоимость прибора учета) | C10: шт. | D10: 35160 | E10: 40660 | F10: 41550
